BEGIN:VCALENDAR
VERSION:2.0
PRODID:-//Hereford Argentina - ECPv6.15.20//NONSGML v1.0//EN
CALSCALE:GREGORIAN
METHOD:PUBLISH
X-WR-CALNAME:Hereford Argentina
X-ORIGINAL-URL:https://www.hereford.org.ar/web
X-WR-CALDESC:Eventos para Hereford Argentina
REFRESH-INTERVAL;VALUE=DURATION:PT1H
X-Robots-Tag:noindex
X-PUBLISHED-TTL:PT1H
BEGIN:VTIMEZONE
TZID:America/Argentina/Buenos_Aires
BEGIN:STANDARD
TZOFFSETFROM:-0300
TZOFFSETTO:-0300
TZNAME:-03
DTSTART:20250101T000000
END:STANDARD
END:VTIMEZONE
BEGIN:VEVENT
DTSTART;VALUE=DATE:20260925
DTEND;VALUE=DATE:20260926
DTSTAMP:20260419T203006
CREATED:20260121T184234Z
LAST-MODIFIED:20260121T184234Z
UID:6042-1790294400-1790380799@www.hereford.org.ar
SUMMARY:25° Rte. San Cristobal Bellamar de Bellamar Estancias S.A.
DESCRIPTION:
URL:https://www.hereford.org.ar/web/remates-calendario/25-rte-san-cristobal-bellamar-de-bellamar-estancias-s-a/
LOCATION:Sociedad Rural de San Cristobal\, Santa Fe\, San Cristobal\, Santa Fe\, Argentina
CATEGORIES:Remates
END:VEVENT
BEGIN:VEVENT
DTSTART;VALUE=DATE:20260930
DTEND;VALUE=DATE:20261001
DTSTAMP:20260419T203006
CREATED:20260213T161713Z
LAST-MODIFIED:20260219T124749Z
UID:6153-1790726400-1790812799@www.hereford.org.ar
SUMMARY:Rte. Don Benjamin Ea. Moroti de Don Benjamin S.A.
DESCRIPTION:
URL:https://www.hereford.org.ar/web/remates-calendario/rte-don-benjamin-ea-moroti-de-don-benjamin-s-a/
LOCATION:Sociedad Rural de Huinca Renanco\, Cordoba\, Huinca Renanco\, Cordoba\, Argentina
CATEGORIES:Remates
END:VEVENT
END:VCALENDAR