BEGIN:VCALENDAR
VERSION:2.0
PRODID:-//Hereford Argentina - ECPv6.15.20//NONSGML v1.0//EN
CALSCALE:GREGORIAN
METHOD:PUBLISH
X-ORIGINAL-URL:https://www.hereford.org.ar/web
X-WR-CALDESC:Eventos para Hereford Argentina
REFRESH-INTERVAL;VALUE=DURATION:PT1H
X-Robots-Tag:noindex
X-PUBLISHED-TTL:PT1H
BEGIN:VTIMEZONE
TZID:America/Argentina/Buenos_Aires
BEGIN:STANDARD
TZOFFSETFROM:-0300
TZOFFSETTO:-0300
TZNAME:-03
DTSTART:20250101T000000
END:STANDARD
END:VTIMEZONE
BEGIN:VEVENT
DTSTART;VALUE=DATE:20260902
DTEND;VALUE=DATE:20260903
DTSTAMP:20260422T055441
CREATED:20251209T180434Z
LAST-MODIFIED:20251209T180434Z
UID:5918-1788307200-1788393599@www.hereford.org.ar
SUMMARY:XXVII Rte. Anual Castelli de Terragarba S.A.C.A.I. y F.
DESCRIPTION:
URL:https://www.hereford.org.ar/web/remates-calendario/xxvii-rte-anual-castelli-de-terragarba-s-a-c-a-i-y-f/
LOCATION:Est. La Pelada\, Castelli\, Buenos Aires\, Castelli\, Buenos Aires\, Argentina
CATEGORIES:Remates
END:VEVENT
BEGIN:VEVENT
DTSTART;VALUE=DATE:20260908
DTEND;VALUE=DATE:20260909
DTSTAMP:20260422T055441
CREATED:20260120T135053Z
LAST-MODIFIED:20260120T135053Z
UID:6028-1788825600-1788911999@www.hereford.org.ar
SUMMARY:89° Remate Anual Cabaña Maria Lucia de Pedro y Alejandro Ferrero S.C.
DESCRIPTION:89° Remate Anual Cabaña Maria Lucia de Pedro y Alejandro Ferrero S.C. \n∇ Est. Maria Lucia\, Leones\, Cordoba
URL:https://www.hereford.org.ar/web/remates-calendario/89-remate-anual-cabana-maria-lucia-de-pedro-y-alejandro-ferrero-s-c/
LOCATION:Leones\, Cordoba\, Leones\, Cordoba\, Argentina
CATEGORIES:Remates
ATTACH;FMTTYPE=image/png:https://www.hereford.org.ar/web/wp-content/uploads/2026/01/Maria-Lucia-de-Ferrero.png
END:VEVENT
BEGIN:VEVENT
DTSTART;VALUE=DATE:20260909
DTEND;VALUE=DATE:20260910
DTSTAMP:20260422T055441
CREATED:20260119T194102Z
LAST-MODIFIED:20260121T184644Z
UID:6017-1788912000-1788998399@www.hereford.org.ar
SUMMARY:88° Remate Anual de Estancia Las Lilas
DESCRIPTION:
URL:https://www.hereford.org.ar/web/remates-calendario/88-rte-anual-las-lilas-de-est-y-cab-las-lilas-s-a/
LOCATION:Est. Las Lilas\, Pasteur\, Buenos Aires\, Pasteur\, Buenos Aires\, Argentina
CATEGORIES:Remates
END:VEVENT
BEGIN:VEVENT
DTSTART;VALUE=DATE:20260910
DTEND;VALUE=DATE:20260911
DTSTAMP:20260422T055441
CREATED:20260213T124258Z
LAST-MODIFIED:20260219T124759Z
UID:6150-1788998400-1789084799@www.hereford.org.ar
SUMMARY:Rte. Santo Tomas de la Sierra de Don Benjamin S.A.
DESCRIPTION:
URL:https://www.hereford.org.ar/web/remates-calendario/rte-santo-tomas-de-la-sierra-de-don-benjamin-s-a-3/
LOCATION:Ea. Santo Tomas de la Sierra\, Saldungaray\, Bs.As\, Ssaldungaray\, Buenos Aires\, Argentina
CATEGORIES:Remates
END:VEVENT
BEGIN:VEVENT
DTSTART;VALUE=DATE:20260910
DTEND;VALUE=DATE:20260911
DTSTAMP:20260422T055441
CREATED:20260219T124945Z
LAST-MODIFIED:20260219T124945Z
UID:6171-1788998400-1789084799@www.hereford.org.ar
SUMMARY:XVII Hereford de Origen
DESCRIPTION:
URL:https://www.hereford.org.ar/web/remates-calendario/xvii-hereford-de-origen/
LOCATION:Ayacucho\, Buenos Aires
CATEGORIES:Remates
END:VEVENT
BEGIN:VEVENT
DTSTART;VALUE=DATE:20260915
DTEND;VALUE=DATE:20260916
DTSTAMP:20260422T055441
CREATED:20260121T184006Z
LAST-MODIFIED:20260121T184006Z
UID:6038-1789430400-1789516799@www.hereford.org.ar
SUMMARY:10° Rte. Rio Cuarto  Bellamar de Bellamar Estancias S.A.
DESCRIPTION:
URL:https://www.hereford.org.ar/web/remates-calendario/10-rte-rio-cuarto-bellamar-de-bellamar-estancias-s-a/
LOCATION:Predio Ferial FERIALVAREZ\, Rio Cuarto\, Cordoba\, Rio Cuarto\, Cordoba\, Argentina
CATEGORIES:Remates
END:VEVENT
BEGIN:VEVENT
DTSTART;VALUE=DATE:20260925
DTEND;VALUE=DATE:20260926
DTSTAMP:20260422T055441
CREATED:20260121T184234Z
LAST-MODIFIED:20260121T184234Z
UID:6042-1790294400-1790380799@www.hereford.org.ar
SUMMARY:25° Rte. San Cristobal Bellamar de Bellamar Estancias S.A.
DESCRIPTION:
URL:https://www.hereford.org.ar/web/remates-calendario/25-rte-san-cristobal-bellamar-de-bellamar-estancias-s-a/
LOCATION:Sociedad Rural de San Cristobal\, Santa Fe\, San Cristobal\, Santa Fe\, Argentina
CATEGORIES:Remates
END:VEVENT
BEGIN:VEVENT
DTSTART;VALUE=DATE:20260930
DTEND;VALUE=DATE:20261001
DTSTAMP:20260422T055441
CREATED:20260213T161713Z
LAST-MODIFIED:20260219T124749Z
UID:6153-1790726400-1790812799@www.hereford.org.ar
SUMMARY:Rte. Don Benjamin Ea. Moroti de Don Benjamin S.A.
DESCRIPTION:
URL:https://www.hereford.org.ar/web/remates-calendario/rte-don-benjamin-ea-moroti-de-don-benjamin-s-a/
LOCATION:Sociedad Rural de Huinca Renanco\, Cordoba\, Huinca Renanco\, Cordoba\, Argentina
CATEGORIES:Remates
END:VEVENT
END:VCALENDAR