BEGIN:VCALENDAR
VERSION:2.0
PRODID:-//Hereford Argentina - ECPv6.15.20//NONSGML v1.0//EN
CALSCALE:GREGORIAN
METHOD:PUBLISH
X-ORIGINAL-URL:https://www.hereford.org.ar/web
X-WR-CALDESC:Eventos para Hereford Argentina
REFRESH-INTERVAL;VALUE=DURATION:PT1H
X-Robots-Tag:noindex
X-PUBLISHED-TTL:PT1H
BEGIN:VTIMEZONE
TZID:America/Argentina/Buenos_Aires
BEGIN:STANDARD
TZOFFSETFROM:-0300
TZOFFSETTO:-0300
TZNAME:-03
DTSTART:20250101T000000
END:STANDARD
END:VTIMEZONE
BEGIN:VEVENT
DTSTART;VALUE=DATE:20260805
DTEND;VALUE=DATE:20260806
DTSTAMP:20260420T041009
CREATED:20260121T183514Z
LAST-MODIFIED:20260121T183514Z
UID:6033-1785888000-1785974399@www.hereford.org.ar
SUMMARY:43° Rte. Chascomus Bellamar de Bellamar Estancias S.A.
DESCRIPTION:
URL:https://www.hereford.org.ar/web/remates-calendario/43-rte-chascomus-bellamar-de-bellamar-estancias-s-a/
LOCATION:Asoc. Rural de Chascomus\, Bs. As\, Chascomus\, Buenos Aires\, Argentina
CATEGORIES:Remates
END:VEVENT
BEGIN:VEVENT
DTSTART;VALUE=DATE:20260807
DTEND;VALUE=DATE:20260808
DTSTAMP:20260420T041009
CREATED:20260223T160629Z
LAST-MODIFIED:20260223T160629Z
UID:6193-1786060800-1786147199@www.hereford.org.ar
SUMMARY:5° Rte Anual Santa Rita de Antiguas Estancias Don Roberto S.A.
DESCRIPTION:
URL:https://www.hereford.org.ar/web/remates-calendario/5-rte-anual-santa-rita-de-antiguas-estancias-don-roberto-s-a/
LOCATION:Sociedad Rural de Saladillo\, Saladillo\, Buenos Aires\, Argentina
CATEGORIES:Remates
END:VEVENT
BEGIN:VEVENT
DTSTART;VALUE=DATE:20260820
DTEND;VALUE=DATE:20260821
DTSTAMP:20260420T041009
CREATED:20260119T194305Z
LAST-MODIFIED:20260212T164944Z
UID:6020-1787184000-1787270399@www.hereford.org.ar
SUMMARY:Rte. Anual de  Las Tranqueras de Horacio la Valle y Marta Vila Moret De
DESCRIPTION:
URL:https://www.hereford.org.ar/web/remates-calendario/rte-anual-de-las-tranqueras-de-horacio-la-valle-y-marta-vila-moret-de/
LOCATION:Sociedad Rural de General Belgrano\, General Belgrano\, Buenos Aires\, Argentina
CATEGORIES:Remates
END:VEVENT
BEGIN:VEVENT
DTSTART;VALUE=DATE:20260826
DTEND;VALUE=DATE:20260827
DTSTAMP:20260420T041009
CREATED:20260121T183634Z
LAST-MODIFIED:20260121T184606Z
UID:6035-1787702400-1787788799@www.hereford.org.ar
SUMMARY:52° Rte. Miramar Bellamar de Bellamar Estancias S.A.
DESCRIPTION:Ubicación: \nInstalaciones de la Cabaña
URL:https://www.hereford.org.ar/web/remates-calendario/52-rte-miramar-bellamar-de-bellamar-estancias-s-a/
LOCATION:Miramar\, Buenos Aires
CATEGORIES:Remates
END:VEVENT
BEGIN:VEVENT
DTSTART;VALUE=DATE:20260827
DTEND;VALUE=DATE:20260828
DTSTAMP:20260420T041009
CREATED:20251209T180109Z
LAST-MODIFIED:20251209T180109Z
UID:5912-1787788800-1787875199@www.hereford.org.ar
SUMMARY:Rte. Anual Santo Domingo de Est. y Cab. Santo Domingo S.C.A.
DESCRIPTION:
URL:https://www.hereford.org.ar/web/remates-calendario/rte-anual-santo-domingo-de-est-y-cab-santo-domingo-s-c-a/
LOCATION:Sociedad Rural de Balcarce\, Balcarce\, Buenos Aires\, Argentina
CATEGORIES:Remates
END:VEVENT
END:VCALENDAR