BEGIN:VCALENDAR
VERSION:2.0
PRODID:-//Hereford Argentina - ECPv6.15.20//NONSGML v1.0//EN
CALSCALE:GREGORIAN
METHOD:PUBLISH
X-ORIGINAL-URL:https://www.hereford.org.ar/web
X-WR-CALDESC:Eventos para Hereford Argentina
REFRESH-INTERVAL;VALUE=DURATION:PT1H
X-Robots-Tag:noindex
X-PUBLISHED-TTL:PT1H
BEGIN:VTIMEZONE
TZID:America/Argentina/Buenos_Aires
BEGIN:STANDARD
TZOFFSETFROM:-0300
TZOFFSETTO:-0300
TZNAME:-03
DTSTART:20250101T000000
END:STANDARD
END:VTIMEZONE
BEGIN:VEVENT
DTSTART;VALUE=DATE:20260703
DTEND;VALUE=DATE:20260704
DTSTAMP:20260420T025243
CREATED:20251209T180254Z
LAST-MODIFIED:20251209T180254Z
UID:5915-1783036800-1783123199@www.hereford.org.ar
SUMMARY:VI Rte. Otoño Chascomus de Terragarba S.A.C.A.I y F.
DESCRIPTION:
URL:https://www.hereford.org.ar/web/remates-calendario/vi-rte-otono-chascomus-de-terragarba-s-a-c-a-i-y-f/
LOCATION:Asoc. Rural de Chascomus\, Bs. As\, Chascomus\, Buenos Aires\, Argentina
CATEGORIES:Remates
END:VEVENT
BEGIN:VEVENT
DTSTART;VALUE=DATE:20260708
DTEND;VALUE=DATE:20260709
DTSTAMP:20260420T025243
CREATED:20260119T193916Z
LAST-MODIFIED:20260119T201012Z
UID:6015-1783468800-1783555199@www.hereford.org.ar
SUMMARY:26° Remate Anual Litoral Santafecino de Est. y Cab. Las Lilas
DESCRIPTION:
URL:https://www.hereford.org.ar/web/remates-calendario/26-rte-anual-litoral-santafecino-las-lilas-de-est-y-cab-las-lilas/
LOCATION:100% Online por Streaming
CATEGORIES:Remates
END:VEVENT
END:VCALENDAR