BEGIN:VCALENDAR
VERSION:2.0
PRODID:-//Hereford Argentina - ECPv6.15.20//NONSGML v1.0//EN
CALSCALE:GREGORIAN
METHOD:PUBLISH
X-ORIGINAL-URL:https://www.hereford.org.ar/web
X-WR-CALDESC:Eventos para Hereford Argentina
REFRESH-INTERVAL;VALUE=DURATION:PT1H
X-Robots-Tag:noindex
X-PUBLISHED-TTL:PT1H
BEGIN:VTIMEZONE
TZID:America/Argentina/Buenos_Aires
BEGIN:STANDARD
TZOFFSETFROM:-0300
TZOFFSETTO:-0300
TZNAME:-03
DTSTART:20240101T000000
END:STANDARD
END:VTIMEZONE
BEGIN:VEVENT
DTSTART;VALUE=DATE:20251112
DTEND;VALUE=DATE:20251113
DTSTAMP:20260422T055354
CREATED:20251006T152522Z
LAST-MODIFIED:20251111T154221Z
UID:5479-1762905600-1762991999@www.hereford.org.ar
SUMMARY:Rte. Genetica de Elite 2025 de Carlos Ojea Rullan
DESCRIPTION:Miércoles 12 de noviembre desde las 18.00hs.\nPredio Ferial de Palermo.\nRemate 20hs presencial o por streaming Canal Ganadero.\nAnte cualquier consulta\, estamos a disposición por WhatsApp:\n+54 9 11 5291-428. \nCatálogo y Preofertas en www.geneticadeelite.com.ar\nApertura de preofertas: viernes 07/11 – 8hs.\nCierre de preofertas: lunes 10/11 – 20hs. \nGénetica de Élite 2025 – HEREFORD
URL:https://www.hereford.org.ar/web/remates-calendario/rte-genetica-de-elite-2025-de-carlos-ojea-rullan/
LOCATION:Palermo\, Buenos Aires
CATEGORIES:Remates
ATTACH;FMTTYPE=image/jpeg:https://www.hereford.org.ar/web/wp-content/uploads/2025/10/WhatsApp-Image-2025-10-16-at-11.32.44-AM-1.jpeg
END:VEVENT
BEGIN:VEVENT
DTSTART;VALUE=DATE:20251114
DTEND;VALUE=DATE:20251115
DTSTAMP:20260422T055354
CREATED:20250915T140926Z
LAST-MODIFIED:20251113T194448Z
UID:5176-1763078400-1763164799@www.hereford.org.ar
SUMMARY:4° Edicion de Rte. Seleccion de Vientres de Camara de Cabañas Santafesinas de Ganado A.C.
DESCRIPTION:CATALOGO 4° Rte. Seleccion de Vientres de Camara de Cab. Santafesinas de Ganado A.C
URL:https://www.hereford.org.ar/web/remates-calendario/4-edicion-de-rte-seleccion-de-vientres-de-camara-de-cabanas-santafesinas-de-ganado-a-c/
LOCATION:Sociedad Rrual de Santa fe\, Santa Fe\, Santa Fe\, Argentina
CATEGORIES:Remates
ATTACH;FMTTYPE=image/jpeg:https://www.hereford.org.ar/web/wp-content/uploads/2025/09/WhatsApp-Image-2025-09-10-at-11.49.40.jpeg
END:VEVENT
BEGIN:VEVENT
DTSTART;TZID=America/Argentina/Buenos_Aires:20251119T000000
DTEND;TZID=America/Argentina/Buenos_Aires:20251119T140000
DTSTAMP:20260422T055354
CREATED:20251007T162144Z
LAST-MODIFIED:20251111T120453Z
UID:5500-1763510400-1763560800@www.hereford.org.ar
SUMMARY:Rte. Las Cabezas de Entre Rios S.A.
DESCRIPTION:CATALOGO LAS CABEZAS 2025\n \nDesde Estancia Las Cabezas queremos invitarlos a compartir con nosotros dos jornadas muy especiales\, donde combinaremos trabajo\, innovación y la pasión por la ganadería. \n📅 Martes 18 de noviembre – Día de Campo\nTe esperamos a las 14hs para recorrer juntos nuestra producción y conocer de cerca los puntos de innovación que estamos implementando en la estancia. \n📅 Miercoles 19 de noviembre – “Remate Estancia Las Cabezas”\n🕛 12:00 hs – Almuerzo\n🕑 14:00 hs – Inicio del remate \nPresentaremos una destacada oferta de hacienda Hereford seleccionada con dedicación y compromiso\, reflejo del trabajo diario de todo nuestro equipo. \nNos encantaría contar con tu presencia en ambas jornadas.\nPor favor\, confirmá tu asistencia al día de campo al 3444 50-6516 (Jerónimo). \n¡Será un placer recibirte y compartir juntos buenos momentos\, buenos negocios y la tradición e historia de Estancia Las Cabezas!
URL:https://www.hereford.org.ar/web/remates-calendario/rte-las-cabezas-de-entre-rios-s-a/
LOCATION:Gualeguay\, Entre Rios
CATEGORIES:Remates
ATTACH;FMTTYPE=image/jpeg:https://www.hereford.org.ar/web/wp-content/uploads/2025/10/WhatsApp-Image-2025-11-07-at-16.03.06.jpeg
END:VEVENT
BEGIN:VEVENT
DTSTART;VALUE=DATE:20251126
DTEND;VALUE=DATE:20251127
DTSTAMP:20260422T055354
CREATED:20250514T124401Z
LAST-MODIFIED:20251114T160525Z
UID:3343-1764115200-1764201599@www.hereford.org.ar
SUMMARY:RTE. Hereford y sus Cruzas en el MAG
DESCRIPTION:
URL:https://www.hereford.org.ar/web/remates-calendario/rte-hereford-y-sus-cruzas-en-el-mag-4/
LOCATION:Mercado Agroganadero\, RP6 Km 88\, Cañuelas\, Provincia de Buenos Aires\, Argentina
CATEGORIES:Remates
ATTACH;FMTTYPE=image/jpeg:https://www.hereford.org.ar/web/wp-content/uploads/2025/05/WhatsApp-Image-2025-11-05-at-11.54.22-AM-1.jpeg
END:VEVENT
BEGIN:VEVENT
DTSTART;VALUE=DATE:20251128
DTEND;VALUE=DATE:20251129
DTSTAMP:20260422T055354
CREATED:20250424T173414Z
LAST-MODIFIED:20251125T123959Z
UID:3121-1764288000-1764374399@www.hereford.org.ar
SUMMARY:6° Venta de Vientres - Jotabe de Caldenes S.A.
DESCRIPTION:ORDEN DE VENTA 6° RTE. DE VIENTRES: orden de venta _Vientres25-BAJA5
URL:https://www.hereford.org.ar/web/remates-calendario/6-venta-de-vientres-jotabe-de-caldenes-s-a/
LOCATION:Cañada Seca\, Buenos Aires\, Buenos Aires\, Argentina
CATEGORIES:Remates
ATTACH;FMTTYPE=image/jpeg:https://www.hereford.org.ar/web/wp-content/uploads/2025/04/WhatsApp-Image-2025-10-16-at-11.32.40-AM-1.jpeg
END:VEVENT
BEGIN:VEVENT
DTSTART;VALUE=DATE:20251128
DTEND;VALUE=DATE:20251129
DTSTAMP:20260422T055354
CREATED:20251024T221328Z
LAST-MODIFIED:20251127T163011Z
UID:5624-1764288000-1764374399@www.hereford.org.ar
SUMMARY:Rte. Especial de Fin de Año - Bloque Hereford- Transmite ClicRural
DESCRIPTION:Rte. Especia Fin de año Junto a ClicRural y A. SAENZ –  FCO AGROGANADERA – VICAR GANADERA S.A. \nAnote su Consignacion con: \nAlejo Ferrero: 11 4053 2779 \nStreaming: https://clicrural.com.ar/\n  \nCATALOGO: CATALOGO FINAL REMATE ESPECIAL FIN DE AÑO (28-11-2025)
URL:https://www.hereford.org.ar/web/remates-calendario/rte-especial-de-fin-de-ano-bloque-hereford-transmite-clicrural/
LOCATION:Streaming por ClicRural en Lincoln\, Buenos Aires
CATEGORIES:Remates
ATTACH;FMTTYPE=image/jpeg:https://www.hereford.org.ar/web/wp-content/uploads/2025/10/WhatsApp-Image-2025-10-24-at-14.13.51.jpeg
END:VEVENT
END:VCALENDAR