BEGIN:VCALENDAR
VERSION:2.0
PRODID:-//Hereford Argentina - ECPv6.15.20//NONSGML v1.0//EN
CALSCALE:GREGORIAN
METHOD:PUBLISH
X-ORIGINAL-URL:https://www.hereford.org.ar/web
X-WR-CALDESC:Eventos para Hereford Argentina
REFRESH-INTERVAL;VALUE=DURATION:PT1H
X-Robots-Tag:noindex
X-PUBLISHED-TTL:PT1H
BEGIN:VTIMEZONE
TZID:America/Argentina/Buenos_Aires
BEGIN:STANDARD
TZOFFSETFROM:-0300
TZOFFSETTO:-0300
TZNAME:-03
DTSTART:20240101T000000
END:STANDARD
END:VTIMEZONE
BEGIN:VEVENT
DTSTART;VALUE=DATE:20250902
DTEND;VALUE=DATE:20250903
DTSTAMP:20260422T084222
CREATED:20250320T192833Z
LAST-MODIFIED:20250826T132121Z
UID:2508-1756771200-1756857599@www.hereford.org.ar
SUMMARY:Rte. Los Primos de Don Juancito S.R.L
DESCRIPTION:Para Acceder al Catalogo haga Click Aqui 👉 Catálogo -Cabaña Los Primos- \n 
URL:https://www.hereford.org.ar/web/remates-calendario/rte-los-primos-de-don-juancito-s-r-l/
LOCATION:Colon\, Entre Rios
CATEGORIES:Remates
ATTACH;FMTTYPE=image/jpeg:https://www.hereford.org.ar/web/wp-content/uploads/2025/03/Flayer-2025.jpeg
END:VEVENT
BEGIN:VEVENT
DTSTART;VALUE=DATE:20250903
DTEND;VALUE=DATE:20250904
DTSTAMP:20260422T084222
CREATED:20250401T143531Z
LAST-MODIFIED:20250818T170403Z
UID:2680-1756857600-1756943999@www.hereford.org.ar
SUMMARY:Rte. Las Nazarenas de Agrop. Las Nazarenas S.C.
DESCRIPTION:
URL:https://www.hereford.org.ar/web/remates-calendario/rte-las-nazarenas-de-agrop-las-nazarenas-s-c/
LOCATION:Balcarce\, Buenos Aires
CATEGORIES:Remates
ATTACH;FMTTYPE=image/jpeg:https://www.hereford.org.ar/web/wp-content/uploads/2025/04/WhatsApp-Image-2025-08-18-at-12.37.35.jpeg
END:VEVENT
BEGIN:VEVENT
DTSTART;VALUE=DATE:20250905
DTEND;VALUE=DATE:20250906
DTSTAMP:20260422T084222
CREATED:20250424T173302Z
LAST-MODIFIED:20250829T151921Z
UID:3118-1757030400-1757116799@www.hereford.org.ar
SUMMARY:76° Rte. Anual Genetica Jotabe de Caldenes S.A.
DESCRIPTION:¡PARA REALIZAR PRE OFERTAS HAGA CLICK AQUI!
URL:https://www.hereford.org.ar/web/remates-calendario/76-rte-cabana-jotabe-de-caldenes-s-a/
LOCATION:Cañada Seca\, Buenos Aires\, Buenos Aires\, Argentina
CATEGORIES:Remates
ATTACH;FMTTYPE=image/jpeg:https://www.hereford.org.ar/web/wp-content/uploads/2025/04/WhatsApp-Image-2025-08-25-at-09.52.08.jpeg
END:VEVENT
BEGIN:VEVENT
DTSTART;VALUE=DATE:20250905
DTEND;VALUE=DATE:20250906
DTSTAMP:20260422T084222
CREATED:20250701T135356Z
LAST-MODIFIED:20250901T124901Z
UID:4135-1757030400-1757116799@www.hereford.org.ar
SUMMARY:Rte. Un Hereford Definido Cabaña Los Angeles de Asociación de Monjes Cistercienses
DESCRIPTION:CATALOGO Y LINK DE REMATE ¡AQUI! \nORDEN DE VENTA ¡AQUI!
URL:https://www.hereford.org.ar/web/remates-calendario/rte-un-hereford-definido-cabana-los-angeles-de-asociacion-de-monjes-cistercienses/
LOCATION:Sociedad Rural de Azul\, Buenos Aires
CATEGORIES:Remates
ATTACH;FMTTYPE=image/png:https://www.hereford.org.ar/web/wp-content/uploads/2025/07/Los-Angeles.png
END:VEVENT
BEGIN:VEVENT
DTSTART;TZID=America/Argentina/Buenos_Aires:20250909T000000
DTEND;TZID=America/Argentina/Buenos_Aires:20250909T000000
DTSTAMP:20260422T084222
CREATED:20250721T134109Z
LAST-MODIFIED:20250903T171514Z
UID:4333-1757376000-1757376000@www.hereford.org.ar
SUMMARY:88° Remate Anual Cabaña Maria Lucia de  Pedro y Alejandro Ferrero S.C.
DESCRIPTION:🗓️ El martes 9 de septiembre a las 13:30 hs. realizaremos nuestro 88º Remate Anual en las instalaciones de María Lucía.\nTambién podrás verlo de manera virtual en nuestra página web\, Facebook y tambien por elrural.com \n¡ORDEN DE VENTA CLICK AQUI! \n  \nCONDICIONES COMERCIALES \n•⁠ ⁠Flete gratis hasta 400 km\n•⁠ ⁠⁠4% descuento – Lote Marcado.\n•⁠ ⁠⁠10% descuento por pago contado.\n•⁠ ⁠90 días libres o 5 cuotas.\n•⁠ ⁠⁠3\,2% gastos y comisión. \nLote marcado: 4% de descuento: \n1.⁠ ⁠Marcá con anticipación los lotes que más te interesen en el siguiente LINK \n2.⁠ Automáticamente vas a tener un 4% de descuento en la compra del lote. \n📅 Apertura: miércoles 03/09 a las 12 hs\n📅 Cierre: lunes 08/09 a las 12 hs \n 
URL:https://www.hereford.org.ar/web/remates-calendario/88-remate-anual-cabana-maria-lucia-de-pedro-y-alejandro-ferrero-s-c/
CATEGORIES:Remates
ATTACH;FMTTYPE=image/jpeg:https://www.hereford.org.ar/web/wp-content/uploads/2025/04/WhatsApp-Image-2025-07-18-at-16.13.55.jpeg
END:VEVENT
BEGIN:VEVENT
DTSTART;VALUE=DATE:20250910
DTEND;VALUE=DATE:20250911
DTSTAMP:20260422T084222
CREATED:20250514T145100Z
LAST-MODIFIED:20250901T185758Z
UID:3347-1757462400-1757548799@www.hereford.org.ar
SUMMARY:40° RTE. ANUAL CABAÑAS LOS CEIBOS DE ESTAB. LOS CEIBOS S.A.
DESCRIPTION:
URL:https://www.hereford.org.ar/web/remates-calendario/40-rte-anual-cabanas-los-ceibos-de-est-los-ceibos-s-a/
LOCATION:Tandil\, Buenos Aires\, Tandil\, Buenos Aires\, Argentina
CATEGORIES:Remates
ATTACH;FMTTYPE=image/png:https://www.hereford.org.ar/web/wp-content/uploads/2025/05/Los-Ceibos-de-Agrop.-Los-Ceibos.png
END:VEVENT
BEGIN:VEVENT
DTSTART;VALUE=DATE:20250911
DTEND;VALUE=DATE:20250912
DTSTAMP:20260422T084222
CREATED:20250320T193010Z
LAST-MODIFIED:20250908T184834Z
UID:2515-1757548800-1757635199@www.hereford.org.ar
SUMMARY:Rte. El Centinela de Est. el Centinela S.R.L. y Las Malvinas de Las Malvinas S.C.A
DESCRIPTION:🗓 10 de Septiembre 2025\n🕛 14:30hs \n🎥 Seguí el remate en vivo por el Canal de YouTube de Rosgan:\n👉 LINK \n🖼 Lotes | Catalogo | ‼️Preofertas‼️:\n👉LINK\n– Inicio de preofertas: 3 de Septiembre – 9hs\n– Cierre de preofertas: 9 de Septiembre – 21hs\n–\n🐂 30 Toros P. Hereford\n🐮 30 Vaqus. P. Hereford paricion Primavera y Otoño\n🐮 25 Toros Angus Negros y Colorados \n🗺 Ubicación: Sociedad Rural de Pehuajo\nhttps://share.google/vlBQXgbiCawVrkVzh \nREMATE EN VIVO
URL:https://www.hereford.org.ar/web/remates-calendario/rte-el-centinela-de-est-el-centinela-s-r-l-y-las-malvinas-de-las-malvinas-s-c-a/
LOCATION:Pehuajó\, Buenos Aires
CATEGORIES:Remates
ATTACH;FMTTYPE=image/jpeg:https://www.hereford.org.ar/web/wp-content/uploads/2025/03/WhatsApp-Image-2025-08-13-at-13.32.21-1.jpeg
END:VEVENT
BEGIN:VEVENT
DTSTART;VALUE=DATE:20250911
DTEND;VALUE=DATE:20250912
DTSTAMP:20260422T084222
CREATED:20250320T193115Z
LAST-MODIFIED:20250818T175711Z
UID:2525-1757548800-1757635199@www.hereford.org.ar
SUMMARY:Rte. XVI HEREFORD DE ORIGEN
DESCRIPTION:
URL:https://www.hereford.org.ar/web/remates-calendario/rte-xvi-hereford-de-origen/
LOCATION:Ayacucho\, Buenos Aires
CATEGORIES:Remates
ATTACH;FMTTYPE=image/png:https://www.hereford.org.ar/web/wp-content/uploads/2025/03/Hereford-de-Origen.png
END:VEVENT
BEGIN:VEVENT
DTSTART;VALUE=DATE:20250911
DTEND;VALUE=DATE:20250912
DTSTAMP:20260422T084222
CREATED:20250327T154807Z
LAST-MODIFIED:20250909T123503Z
UID:2657-1757548800-1757635199@www.hereford.org.ar
SUMMARY:Rte. Santo Tomas de la Sierra de Don Benjamin S.A.
DESCRIPTION:¡Acceso al Catalogo Aqui!
URL:https://www.hereford.org.ar/web/remates-calendario/rte-santo-tomas-de-la-sierra-de-don-benjamin-s-a-2/
LOCATION:Saldungaray\, Buenos Aires\, Buenos Aires\, Argentina
CATEGORIES:Remates
ATTACH;FMTTYPE=image/png:https://www.hereford.org.ar/web/wp-content/uploads/2025/03/Sin-titulo-1-3.png
END:VEVENT
BEGIN:VEVENT
DTSTART;VALUE=DATE:20250911
DTEND;VALUE=DATE:20250912
DTSTAMP:20260422T084222
CREATED:20250416T123004Z
LAST-MODIFIED:20250903T163610Z
UID:2907-1757548800-1757635199@www.hereford.org.ar
SUMMARY:87° Rte. Anual Las Lilas de Estancia y Cabaña las Lilas S.A.
DESCRIPTION:UBICACION: ¡HAGA CLICK AQUI!\nORDEN DE VENTA: Orden-de-Ventas-87-Remate-Las-Lilas-2025
URL:https://www.hereford.org.ar/web/remates-calendario/87-rte-anual-las-lilas-de-estancia-y-cabana-las-lilas-s-a/
LOCATION:Pasteur\, Bs. As
CATEGORIES:Remates
ATTACH;FMTTYPE=image/jpeg:https://www.hereford.org.ar/web/wp-content/uploads/2025/04/WhatsApp-Image-2025-08-20-at-14.25.06.jpeg
END:VEVENT
BEGIN:VEVENT
DTSTART;VALUE=DATE:20250912
DTEND;VALUE=DATE:20250913
DTSTAMP:20260422T084222
CREATED:20250325T173809Z
LAST-MODIFIED:20250902T180832Z
UID:2636-1757635200-1757721599@www.hereford.org.ar
SUMMARY:34° Rte. Anual Los Pampas de La Pampa de Villa Maria S.C.
DESCRIPTION:
URL:https://www.hereford.org.ar/web/remates-calendario/34-rte-anual-los-pampas-de-la-pampa-de-villa-maria-s-c/
LOCATION:Eduardo Castex\, La Pampa\, La Pampa\, Argentina
CATEGORIES:Remates
ATTACH;FMTTYPE=image/png:https://www.hereford.org.ar/web/wp-content/uploads/2025/03/Villa-Maria-de-Villa-Maria.png
END:VEVENT
BEGIN:VEVENT
DTSTART;VALUE=DATE:20250912
DTEND;VALUE=DATE:20250913
DTSTAMP:20260422T084222
CREATED:20250424T122103Z
LAST-MODIFIED:20250901T190150Z
UID:3088-1757635200-1757721599@www.hereford.org.ar
SUMMARY:Rte. Huaca Curu de Establecimiento Agropecuario San Jorge S.A.
DESCRIPTION:
URL:https://www.hereford.org.ar/web/remates-calendario/rte-huaca-curu-de-establecimiento-agropecuario-san-jorge-s-a/
LOCATION:Tandil\, Buenos Aires\, Tandil\, Buenos Aires\, Argentina
CATEGORIES:Remates
ATTACH;FMTTYPE=image/jpeg:https://www.hereford.org.ar/web/wp-content/uploads/2025/04/WhatsApp-Image-2025-09-01-at-14.50.51.jpeg
END:VEVENT
BEGIN:VEVENT
DTSTART;VALUE=DATE:20250916
DTEND;VALUE=DATE:20250917
DTSTAMP:20260422T084222
CREATED:20250320T193220Z
LAST-MODIFIED:20250902T181146Z
UID:2528-1757980800-1758067199@www.hereford.org.ar
SUMMARY:9° Rte. Rio Cuarto de Bellamar de Bellamar Estancias S.A.
DESCRIPTION:
URL:https://www.hereford.org.ar/web/remates-calendario/9-rte-rio-cuarto-de-bellamar-de-bellamar-estancias-s-a/
LOCATION:Rio Cuarto\, Cordoba
CATEGORIES:Remates
ATTACH;FMTTYPE=image/jpeg:https://www.hereford.org.ar/web/wp-content/uploads/2025/03/WhatsApp-Image-2025-09-02-at-15.09.44-1.jpeg
END:VEVENT
BEGIN:VEVENT
DTSTART;VALUE=DATE:20250917
DTEND;VALUE=DATE:20250918
DTSTAMP:20260422T084222
CREATED:20250421T192617Z
LAST-MODIFIED:20250902T180710Z
UID:3024-1758067200-1758153599@www.hereford.org.ar
SUMMARY:Rte. Cabaña ATIGUE de Gualdesi Hnos. S.R.L.
DESCRIPTION:
URL:https://www.hereford.org.ar/web/remates-calendario/rte-cabana-atigue-de-gualdesi-hnos-s-r-l/
LOCATION:Juan A. Pradere\, Buenos Aires\, Argentina
CATEGORIES:Remates
ATTACH;FMTTYPE=image/png:https://www.hereford.org.ar/web/wp-content/uploads/2025/04/Atigue-de-Gualdesi.png
END:VEVENT
BEGIN:VEVENT
DTSTART;VALUE=DATE:20250917
DTEND;VALUE=DATE:20250918
DTSTAMP:20260422T084222
CREATED:20250515T180057Z
LAST-MODIFIED:20250902T184859Z
UID:3403-1758067200-1758153599@www.hereford.org.ar
SUMMARY:Rte. Cabaña Los Cerritos de Agrop. Los Cerritos S.A.
DESCRIPTION:
URL:https://www.hereford.org.ar/web/remates-calendario/rte-cabana-los-cerritos-de-agrop-los-cerritos-s-a/
LOCATION:Cabaña Los Cerritos\, Azul\, Azul\, Buenos Aires\, Argentina
CATEGORIES:Remates
ATTACH;FMTTYPE=image/png:https://www.hereford.org.ar/web/wp-content/uploads/2025/05/Los-Cerritos.png
END:VEVENT
BEGIN:VEVENT
DTSTART;VALUE=DATE:20250918
DTEND;VALUE=DATE:20250919
DTSTAMP:20260422T084222
CREATED:20250325T194818Z
LAST-MODIFIED:20250916T124039Z
UID:2643-1758153600-1758239999@www.hereford.org.ar
SUMMARY:Rte. Tradicional de La Gloria de Santamarina
DESCRIPTION:
URL:https://www.hereford.org.ar/web/remates-calendario/rte-tradicional-de-la-gloria-de-santamarina/
LOCATION:Benito Juarez\, Buenos Aires\, Benito Juarez\, Buenos Aires\, Argentina
CATEGORIES:Remates
ATTACH;FMTTYPE=image/jpeg:https://www.hereford.org.ar/web/wp-content/uploads/2025/03/WhatsApp-Image-2025-09-16-at-09.15.03.jpeg
END:VEVENT
BEGIN:VEVENT
DTSTART;VALUE=DATE:20250918
DTEND;VALUE=DATE:20250919
DTSTAMP:20260422T084222
CREATED:20250421T120429Z
LAST-MODIFIED:20250421T120429Z
UID:2931-1758153600-1758239999@www.hereford.org.ar
SUMMARY:El Rte. Diferente - Edición Primavera - Las Tranqueras de Horacio La Valle y Marta Vila Moret de
DESCRIPTION:
URL:https://www.hereford.org.ar/web/remates-calendario/el-rte-diferente-edicion-primavera-las-tranqueras-de-horacio-la-valle-y-marta-vila-moret-de/
LOCATION:Junin\, Buenos Aires\, Junin\, Buenos Aires\, Argentina
CATEGORIES:Remates
END:VEVENT
BEGIN:VEVENT
DTSTART;VALUE=DATE:20250918
DTEND;VALUE=DATE:20250919
DTSTAMP:20260422T084222
CREATED:20250624T184719Z
LAST-MODIFIED:20250916T201317Z
UID:4024-1758153600-1758239999@www.hereford.org.ar
SUMMARY:Rte. El Cencerro de Elena Pereyra Iraola
DESCRIPTION:Queríamos invitarte a compartir con nosotros el Día de Campo de Cabaña El Cencerro\, el martes 9 de septiembre en nuestro establecimiento.\nSerá una excelente oportunidad para recorrer nuestros animales que irán al Remate Anual\, ver los rodeos originales\, charlar sobre genética\, producción y pasar un buen momento entre colegas y amigos del sector.\nTe esperamos a partir de las 9.30 hs 🙌🏻\nMucho te agradeceremos que confirmes presencia\nUn cordial abrazo
URL:https://www.hereford.org.ar/web/remates-calendario/rte-el-cencerro-de-elena-pereyra-iraola/
LOCATION:Feria de Rauch\, Rauch\, Buenos Aires\, Rauch\, Buenos Aires\, Argentina
CATEGORIES:Remates
END:VEVENT
BEGIN:VEVENT
DTSTART;VALUE=DATE:20250919
DTEND;VALUE=DATE:20250920
DTSTAMP:20260422T084222
CREATED:20250609T135848Z
LAST-MODIFIED:20250609T135848Z
UID:3873-1758240000-1758326399@www.hereford.org.ar
SUMMARY:19° remate de Primavera de Daireaux de La Cassina S.A.
DESCRIPTION:Feria Monasterio Tattersal\, Deiraux\, Buenos Aires
URL:https://www.hereford.org.ar/web/remates-calendario/19-remate-de-primavera-de-daireaux-de-la-cassina-s-a/
LOCATION:Daireaux\, Buenos Aires\, Daireaux\, Buenos Aires\, Argentina
CATEGORIES:Remates
END:VEVENT
BEGIN:VEVENT
DTSTART;VALUE=DATE:20250919
DTEND;VALUE=DATE:20250920
DTSTAMP:20260422T084222
CREATED:20250829T164716Z
LAST-MODIFIED:20250902T200819Z
UID:5002-1758240000-1758326399@www.hereford.org.ar
SUMMARY:Rte. Rusticidad Pampeana La Ñata de La Ñata S.A.
DESCRIPTION:
URL:https://www.hereford.org.ar/web/remates-calendario/rte-rusticidad-pampeana-la-nata-de-la-nata-s-a/
LOCATION:Rancul\, La Pampa\, Rancul\, La Pampa\, Argentina
CATEGORIES:Remates
ATTACH;FMTTYPE=image/png:https://www.hereford.org.ar/web/wp-content/uploads/2025/08/Sin-titulo-1-4.png
END:VEVENT
BEGIN:VEVENT
DTSTART;TZID=America/Argentina/Buenos_Aires:20250919T080000
DTEND;TZID=America/Argentina/Buenos_Aires:20250919T170000
DTSTAMP:20260422T084222
CREATED:20250819T151050Z
LAST-MODIFIED:20250819T151050Z
UID:4825-1758268800-1758301200@www.hereford.org.ar
SUMMARY:Rte. Anual Tio Negro de Ludovico Meneghello
DESCRIPTION:
URL:https://www.hereford.org.ar/web/remates-calendario/rte-anual-tio-negro-de-ludovico-meneghello/
LOCATION:Sociedad Rural de Rico Cuarto\, Rio Cuarto\, Cordoba\, Argentina
CATEGORIES:Remates
END:VEVENT
BEGIN:VEVENT
DTSTART;VALUE=DATE:20250924
DTEND;VALUE=DATE:20250925
DTSTAMP:20260422T084222
CREATED:20250514T124131Z
LAST-MODIFIED:20250804T182730Z
UID:3341-1758672000-1758758399@www.hereford.org.ar
SUMMARY:RTE. Hereford y sus Cruzas en el MAG
DESCRIPTION:
URL:https://www.hereford.org.ar/web/remates-calendario/rte-hereford-y-sus-cruzas-en-el-mag-3/
LOCATION:Mercado Agroganadero\, RP6 Km 88\, Cañuelas\, Provincia de Buenos Aires\, Argentina
CATEGORIES:Remates
ATTACH;FMTTYPE=image/jpeg:https://www.hereford.org.ar/web/wp-content/uploads/2025/05/WhatsApp-Image-2025-08-04-at-12.13.43.jpeg
END:VEVENT
BEGIN:VEVENT
DTSTART;TZID=America/Argentina/Buenos_Aires:20250925T080000
DTEND;TZID=America/Argentina/Buenos_Aires:20250925T170000
DTSTAMP:20260422T084222
CREATED:20250818T180712Z
LAST-MODIFIED:20250903T164137Z
UID:4813-1758787200-1758819600@www.hereford.org.ar
SUMMARY:Rte. Prueba Pastoril Mesopotamia
DESCRIPTION:
URL:https://www.hereford.org.ar/web/remates-calendario/rte-prueba-pastoril-mesopotamia/
LOCATION:Concepcion del Uruguay\, Entre Rios
CATEGORIES:Remates
ATTACH;FMTTYPE=image/jpeg:https://www.hereford.org.ar/web/wp-content/uploads/2025/08/WhatsApp-Image-2025-09-03-at-13.36.24.jpeg
END:VEVENT
BEGIN:VEVENT
DTSTART;VALUE=DATE:20250926
DTEND;VALUE=DATE:20250927
DTSTAMP:20260422T084222
CREATED:20250320T193655Z
LAST-MODIFIED:20250902T181233Z
UID:2532-1758844800-1758931199@www.hereford.org.ar
SUMMARY:24° Rte. San Cristobal de Bellamar Estancias S.A.
DESCRIPTION:
URL:https://www.hereford.org.ar/web/remates-calendario/24-rte-san-cristobal-de-bellamar-estancias-s-a/
LOCATION:San Cristobal\, Santa Fe
CATEGORIES:Remates
ATTACH;FMTTYPE=image/jpeg:https://www.hereford.org.ar/web/wp-content/uploads/2025/03/WhatsApp-Image-2025-09-02-at-15.09.44.jpeg
END:VEVENT
BEGIN:VEVENT
DTSTART;VALUE=DATE:20250926
DTEND;VALUE=DATE:20250927
DTSTAMP:20260422T084222
CREATED:20250408T180945Z
LAST-MODIFIED:20250818T180504Z
UID:2690-1758844800-1758931199@www.hereford.org.ar
SUMMARY:5° Rte. Anual de Cabaña La Camila de Castillo Fernando Juan
DESCRIPTION:
URL:https://www.hereford.org.ar/web/remates-calendario/5-rte-anual-de-cabana-la-camila-de-castillo-fernando-juan/
LOCATION:Olavarria\, Buenos Aires\, Provincia de Buenos Aires\, Argentina
CATEGORIES:Remates
ATTACH;FMTTYPE=image/jpeg:https://www.hereford.org.ar/web/wp-content/uploads/2025/04/WhatsApp-Image-2025-08-18-at-14.16.17.jpeg
END:VEVENT
BEGIN:VEVENT
DTSTART;VALUE=DATE:20250926
DTEND;VALUE=DATE:20250927
DTSTAMP:20260422T084222
CREATED:20250609T140357Z
LAST-MODIFIED:20250609T140357Z
UID:3876-1758844800-1758931199@www.hereford.org.ar
SUMMARY:8° Rte. En Rio Cuarto de La Cassina S.A.
DESCRIPTION:Feria Bressan en Rio Cuarto\, Cordoba
URL:https://www.hereford.org.ar/web/remates-calendario/8-rte-en-rio-cuarto-de-la-cassina-s-a/
LOCATION:Rio Cuarto\, Cordoba
CATEGORIES:Remates
END:VEVENT
BEGIN:VEVENT
DTSTART;VALUE=DATE:20250926
DTEND;VALUE=DATE:20250927
DTSTAMP:20260422T084222
CREATED:20250903T164356Z
LAST-MODIFIED:20250924T134540Z
UID:5101-1758844800-1758931199@www.hereford.org.ar
SUMMARY:Rte. Prueba Pastoril Hereford Zonal Centro Oeste
DESCRIPTION:
URL:https://www.hereford.org.ar/web/remates-calendario/rte-prueba-pastoril-hereford-zonal-centro-oeste/
LOCATION:Monte Cristo\, Cordoba\, Cordoba\, Cordoba\, Cordoba
CATEGORIES:Remates
ATTACH;FMTTYPE=image/png:https://www.hereford.org.ar/web/wp-content/uploads/2025/09/Feed-3er-Jura-Fenotipica-8va-Prueba-a-Campo-Zonal-Centro-v4-Oeste.png
END:VEVENT
BEGIN:VEVENT
DTSTART;TZID=America/Argentina/Buenos_Aires:20250930T130000
DTEND;TZID=America/Argentina/Buenos_Aires:20250930T180000
DTSTAMP:20260422T084222
CREATED:20250923T174646Z
LAST-MODIFIED:20250923T174646Z
UID:5343-1759237200-1759255200@www.hereford.org.ar
SUMMARY:3° Rte. Anual de Reproductores del Partido de Loberia
DESCRIPTION:
URL:https://www.hereford.org.ar/web/remates-calendario/3-rte-anual-de-reproductores-del-partido-de-loberia/
LOCATION:Sociedad Rural de Loberia\, Loberia\, Buenos Aires\, Argentina
CATEGORIES:Remates
ATTACH;FMTTYPE=image/png:https://www.hereford.org.ar/web/wp-content/uploads/2025/09/Sin-titulo-1-4-1.png
END:VEVENT
END:VCALENDAR