BEGIN:VCALENDAR
VERSION:2.0
PRODID:-//Hereford Argentina - ECPv6.15.20//NONSGML v1.0//EN
CALSCALE:GREGORIAN
METHOD:PUBLISH
X-WR-CALNAME:Hereford Argentina
X-ORIGINAL-URL:https://www.hereford.org.ar/web
X-WR-CALDESC:Eventos para Hereford Argentina
REFRESH-INTERVAL;VALUE=DURATION:PT1H
X-Robots-Tag:noindex
X-PUBLISHED-TTL:PT1H
BEGIN:VTIMEZONE
TZID:America/Argentina/Buenos_Aires
BEGIN:STANDARD
TZOFFSETFROM:-0300
TZOFFSETTO:-0300
TZNAME:-03
DTSTART:20240101T000000
END:STANDARD
END:VTIMEZONE
BEGIN:VEVENT
DTSTART;VALUE=DATE:20250801
DTEND;VALUE=DATE:20250802
DTSTAMP:20260422T100503
CREATED:20250425T164426Z
LAST-MODIFIED:20250721T133502Z
UID:3153-1754006400-1754092799@www.hereford.org.ar
SUMMARY:43° Rte. Anual de Cabaña La Cautiva de Maria y Abel Callaba
DESCRIPTION:Sociedad Rural de Curuzu Cuatia
URL:https://www.hereford.org.ar/web/remates-calendario/43-rte-anual-de-cabana-la-cautiva-de-maria-y-abel-callaba/
LOCATION:Curuzu Cuatia\, Corrientes\, Corrientes\, Argentina
CATEGORIES:Remates
ATTACH;FMTTYPE=image/jpeg:https://www.hereford.org.ar/web/wp-content/uploads/2025/03/WhatsApp-Image-2025-07-14-at-13.22.45-1.jpeg
END:VEVENT
BEGIN:VEVENT
DTSTART;VALUE=DATE:20250801
DTEND;VALUE=DATE:20250802
DTSTAMP:20260422T100503
CREATED:20250729T150357Z
LAST-MODIFIED:20250731T130540Z
UID:4421-1754006400-1754092799@www.hereford.org.ar
SUMMARY:2° Remate Elite La Cassina en el MAG de La Cassina S.A.
DESCRIPTION:📢 Jueves 31/07 a las 21 HS CIERRAN LAS PRE-OFERTAS  \nPreofertá y obtené importantes descuentos. \n🔶Preofertas en: https://www.lacassina.clicrural.com.ar  \n🔶Mira el orden de ventas en: https://drive.google.com/file/d/1j8vHtAhYm1QpjW7zl9Ml71OHjBpG7z7m/view?usp=sharing
URL:https://www.hereford.org.ar/web/remates-calendario/2-remate-elite-la-cassina-en-el-mag-de-la-cassina-s-a/
LOCATION:Mercado Agroganadero\, RP6 Km 88\, Cañuelas\, Provincia de Buenos Aires\, Argentina
CATEGORIES:Remates
ATTACH;FMTTYPE=image/jpeg:https://www.hereford.org.ar/web/wp-content/uploads/2025/07/ae259d77-5cc7-4272-900c-0bae71250953.jpg
END:VEVENT
BEGIN:VEVENT
DTSTART;TZID=America/Argentina/Buenos_Aires:20250806T080000
DTEND;TZID=America/Argentina/Buenos_Aires:20250806T170000
DTSTAMP:20260422T100503
CREATED:20250320T191403Z
LAST-MODIFIED:20250702T124551Z
UID:2486-1754467200-1754499600@www.hereford.org.ar
SUMMARY:42° Rte. Chascomus Bellamar de Bellamar Estancias S.A.
DESCRIPTION:
URL:https://www.hereford.org.ar/web/remates-calendario/42-rte-chascomus-bellamar-de-bellamar-estancias-s-a/
LOCATION:Chascomus\, Buenos Aires
CATEGORIES:Remates
ATTACH;FMTTYPE=image/jpeg:https://www.hereford.org.ar/web/wp-content/uploads/2025/03/Bellamar-Chascomus-scaled.jpg
END:VEVENT
BEGIN:VEVENT
DTSTART;TZID=America/Argentina/Buenos_Aires:20250807T140000
DTEND;TZID=America/Argentina/Buenos_Aires:20250807T200000
DTSTAMP:20260422T100503
CREATED:20250730T132944Z
LAST-MODIFIED:20250804T175042Z
UID:4428-1754575200-1754596800@www.hereford.org.ar
SUMMARY:Cab. Montecarlo de Agrop. Montecarlo S.A. participa del 27° Remate Anual de Cab. Santa Maria
DESCRIPTION:VIDEO CATALOGO \nGrandes descuentos con Pre ofertas por Elrural.com   \nFlete Gratis \n90 Dias Libres + 60 dias con el 6% \nTodas las tarjetas Rurales
URL:https://www.hereford.org.ar/web/remates-calendario/cab-montecarlo-de-agrop-montecarlo-s-a-participa-del-27-remate-anual-de-cab-santa-maria/
LOCATION:Cab. La Dulce\, Necochea / Canal Rural\, Necochea\, Buenos Aires\, Argentina
CATEGORIES:Remates
ATTACH;FMTTYPE=image/jpeg:https://www.hereford.org.ar/web/wp-content/uploads/2025/07/WhatsApp-Image-2025-08-04-at-14.31.19.jpeg
END:VEVENT
BEGIN:VEVENT
DTSTART;VALUE=DATE:20250808
DTEND;VALUE=DATE:20250809
DTSTAMP:20260422T100503
CREATED:20250618T123952Z
LAST-MODIFIED:20250804T152556Z
UID:3972-1754611200-1754697599@www.hereford.org.ar
SUMMARY:4° Rte. Anual Cabaña Santa Rita de Antiguas Estancias Don Roberto S.A.
DESCRIPTION:Catalogo 4° Rte. Anual Cabaña Santa Rita 2025 \nCondiciones de Venta\nHacienda Pura de Pedigree: Plazo a 120 Días Directo\nHacienda Pura Registrada: Plazo a 90 Días Directo\nPago de Contado 10% de Descuento\nFlete Gratis Hasta 300km
URL:https://www.hereford.org.ar/web/remates-calendario/4-rte-anual-cabana-santa-rita-de-antiguas-estancias-don-roberto-s-a/
LOCATION:Saladillo\, Buenos Aires\, Saladillo\, Buenos Aires\, Argentina
CATEGORIES:Remates
ATTACH;FMTTYPE=image/jpeg:https://www.hereford.org.ar/web/wp-content/uploads/2025/06/WhatsApp-Image-2025-07-23-at-17.44.02.jpeg
END:VEVENT
BEGIN:VEVENT
DTSTART;TZID=America/Argentina/Buenos_Aires:20250808T080000
DTEND;TZID=America/Argentina/Buenos_Aires:20250808T170000
DTSTAMP:20260422T100503
CREATED:20250320T191858Z
LAST-MODIFIED:20250714T164141Z
UID:2488-1754640000-1754672400@www.hereford.org.ar
SUMMARY:Rte. Genética Sobresaliente de El Rincon de Aldo Rubén Biscardi
DESCRIPTION:
URL:https://www.hereford.org.ar/web/remates-calendario/rte-genetica-sobresaliente-de-el-rincon-de-aldo-ruben-biscardi/
LOCATION:Bolivar\, Buenos Aires
CATEGORIES:Remates
ATTACH;FMTTYPE=image/png:https://www.hereford.org.ar/web/wp-content/uploads/2025/03/Sin-titulo-1-1.png
END:VEVENT
BEGIN:VEVENT
DTSTART;VALUE=DATE:20250814
DTEND;VALUE=DATE:20250815
DTSTAMP:20260422T100503
CREATED:20250421T115915Z
LAST-MODIFIED:20250812T162806Z
UID:2923-1755129600-1755215999@www.hereford.org.ar
SUMMARY:Rte. Anual Las Tranqueras de Horacio La Valle y Marta Vila Moret de
DESCRIPTION:CATALOGO Y PRE OFERTAS !CLICK AQUI!
URL:https://www.hereford.org.ar/web/remates-calendario/rte-anual-las-tranqueras-de-horacio-la-valle-y-marta-vila-moret-de/
LOCATION:General Belgrano\, Buenos Aires\, General Belgrano\, Buenos Aires\, Argentina
CATEGORIES:Remates
ATTACH;FMTTYPE=image/jpeg:https://www.hereford.org.ar/web/wp-content/uploads/2025/04/WhatsApp-Image-2025-08-07-at-10.56.38.jpeg
END:VEVENT
BEGIN:VEVENT
DTSTART;VALUE=DATE:20250814
DTEND;VALUE=DATE:20250815
DTSTAMP:20260422T100504
CREATED:20250617T152543Z
LAST-MODIFIED:20250814T173449Z
UID:3933-1755129600-1755215999@www.hereford.org.ar
SUMMARY:11° Rte. Tres Colonias de Tres Colonias S.A.
DESCRIPTION:¡CATALOGO AQUI! \n¡STREAMING EN VIVO AQUI!
URL:https://www.hereford.org.ar/web/remates-calendario/11-rte-tres-colonias-de-tres-colonias-s-a/
LOCATION:Villa Elisa\, Entre Rios\, Villa Elisa\, Entre Rios\, Argentina
CATEGORIES:Remates
ATTACH;FMTTYPE=image/jpeg:https://www.hereford.org.ar/web/wp-content/uploads/2025/06/WhatsApp-Image-2025-08-13-at-09.03.08.jpeg
END:VEVENT
BEGIN:VEVENT
DTSTART;TZID=America/Argentina/Buenos_Aires:20250814T140000
DTEND;TZID=America/Argentina/Buenos_Aires:20250814T170000
DTSTAMP:20260422T100504
CREATED:20250811T133442Z
LAST-MODIFIED:20250812T124751Z
UID:4647-1755180000-1755190800@www.hereford.org.ar
SUMMARY:25° Rte Reproductores Villa Huidobro de Alfredo S. Mondino - Cab. Invitada Los Murmullos de Garruchos S.A.
DESCRIPTION:Orden de Venta Reproductores (1)
URL:https://www.hereford.org.ar/web/remates-calendario/25-rte-reproductores-villa-huidobro-de-alfredo-s-mondino-cab-invitada-los-murmullos-de-garruchos-s-a/
LOCATION:Villa Huidobro\, Cordoba\, Villa Huidobro\, Cordoba\, Argentina
CATEGORIES:Remates
ATTACH;FMTTYPE=image/png:https://www.hereford.org.ar/web/wp-content/uploads/2025/08/Rte.-Villa-Hudobro-Mondino.png
END:VEVENT
BEGIN:VEVENT
DTSTART;TZID=America/Argentina/Buenos_Aires:20250819T080000
DTEND;TZID=America/Argentina/Buenos_Aires:20250819T170000
DTSTAMP:20260422T100504
CREATED:20250818T180054Z
LAST-MODIFIED:20250819T125554Z
UID:4809-1755590400-1755622800@www.hereford.org.ar
SUMMARY:Rte. 5° Prueba Pastoril Bonaerense
DESCRIPTION:PREOFERTAS: ¡AQUI! \nStreaming en Vivo: ¡AQUI! \nRepresentante MADELAN: \nTomas Tejedo\nttejedo@madelan.com.ar\n2983-407854 \nRepresentante Hereford Bonaerense: \nSantiago Renis\n1154638077
URL:https://www.hereford.org.ar/web/remates-calendario/rte-5-prueba-pastoril-bonaerense/
LOCATION:100% Online por Streaming
CATEGORIES:Remates
ATTACH;FMTTYPE=image/jpeg:https://www.hereford.org.ar/web/wp-content/uploads/2025/08/BannerParallaxDesktop39fd1abdb-79e3-11f0-9257-000d3a1ab8bf155.jpg
END:VEVENT
BEGIN:VEVENT
DTSTART;VALUE=DATE:20250821
DTEND;VALUE=DATE:20250822
DTSTAMP:20260422T100504
CREATED:20250609T134846Z
LAST-MODIFIED:20250818T123338Z
UID:3865-1755734400-1755820799@www.hereford.org.ar
SUMMARY:4°Rte. La Cassina en Trenque Lauquen de La Cassina S.A.
DESCRIPTION:📢5° REMATE DE LA CASSINA EN TRENQUE LAUQUEN \n🐂 Jueves 21 de agosto – 14h previo almuerzo\n🔶Mira los lotes en: LOTES\n🔶Catalogo en: CATALOGO: TRENQUE LAUQUEN
URL:https://www.hereford.org.ar/web/remates-calendario/4rte-la-cassina-en-trenque-lauquen-de-la-cassina-s-a/
LOCATION:SR. Trenque Laquen\, Buenos Aires\, Trenque Lauquen\, Buenos Aires\, Argentina
CATEGORIES:Remates
ATTACH;FMTTYPE=image/jpeg:https://www.hereford.org.ar/web/wp-content/uploads/2025/06/WhatsApp-Interactive-2025-08-18-at-09.18.44.jpeg
END:VEVENT
BEGIN:VEVENT
DTSTART;VALUE=DATE:20250826
DTEND;VALUE=DATE:20250827
DTSTAMP:20260422T100504
CREATED:20250320T192024Z
LAST-MODIFIED:20250819T145836Z
UID:2492-1756166400-1756252799@www.hereford.org.ar
SUMMARY:Rte. 27° Rte. Anual Castelli de Terra Garba S.A.C.A.I. y F.
DESCRIPTION:¡CATALOGO TERRA GARBA AQUI!
URL:https://www.hereford.org.ar/web/remates-calendario/rte-27-rte-anual-castelli-de-terra-garba-s-ac-a-i-y-f/
LOCATION:Castelli\, Buenos Aires
CATEGORIES:Remates
ATTACH;FMTTYPE=image/jpeg:https://www.hereford.org.ar/web/wp-content/uploads/2025/03/Flyer-Castelli-2.jpg
END:VEVENT
BEGIN:VEVENT
DTSTART;VALUE=DATE:20250827
DTEND;VALUE=DATE:20250828
DTSTAMP:20260422T100504
CREATED:20250320T192414Z
LAST-MODIFIED:20250806T181208Z
UID:2500-1756252800-1756339199@www.hereford.org.ar
SUMMARY:51° Rte. Bellamar de Bellamar Estancias S.A.
DESCRIPTION:
URL:https://www.hereford.org.ar/web/remates-calendario/51-rte-bellamar-de-bellamar-estancias-s-a/
LOCATION:Miramar\, Buenos Aires
CATEGORIES:Remates
ATTACH;FMTTYPE=image/jpeg:https://www.hereford.org.ar/web/wp-content/uploads/2025/03/MIRAMAR-PLACA-9-16-scaled.jpg
END:VEVENT
BEGIN:VEVENT
DTSTART;VALUE=DATE:20250828
DTEND;VALUE=DATE:20250829
DTSTAMP:20260422T100504
CREATED:20250320T192201Z
LAST-MODIFIED:20250818T120537Z
UID:2494-1756339200-1756425599@www.hereford.org.ar
SUMMARY:Rte. Rústicos del Oeste de Santa Maria de Mariano Irisarri - La Ilusion de Agro-Seiseme S.R.L. - La Ñata La Ñata S.A.
DESCRIPTION:
URL:https://www.hereford.org.ar/web/remates-calendario/rte-rusticos-del-oeste-de-santa-maria-de-mariano-irisarri-la-ilusion-de-agro-seiseme-s-r-l-la-nata-la-nata-s-a/
LOCATION:Mercedes\, Buenos Aires
CATEGORIES:Remates
ATTACH;FMTTYPE=image/jpeg:https://www.hereford.org.ar/web/wp-content/uploads/2025/03/WhatsApp-Image-2025-08-16-at-18.28.44.jpeg
END:VEVENT
BEGIN:VEVENT
DTSTART;VALUE=DATE:20250828
DTEND;VALUE=DATE:20250829
DTSTAMP:20260422T100504
CREATED:20250320T192725Z
LAST-MODIFIED:20250825T123252Z
UID:2504-1756339200-1756425599@www.hereford.org.ar
SUMMARY:Rte. Anual Santo Domingo de Cab. y Est. Santo Domingo S.C.A.
DESCRIPTION:  \n✅ Pre-ofertas: lunes 25 a las 10:00 hasta miércoles 27 a las 17:00\n👉 Acceso al catálogo: LINK Click Rural \n👉 CATALOGO PDF: LINK AQUI \n👉ORDEN DE VENTA: LINK ORDEN DE VENTA \nEstamos a su disposición\, los esperamos! \nContacto Santo Domingo: \nAlejandro De La Tour – 11 5006-8824 \nOscar Zufriategui – 11 3833-5947 \nContacto Fontana: \nFrancisco Fontana – 2266 442090 \nHoracio Fontana – 2266 531300
URL:https://www.hereford.org.ar/web/remates-calendario/rte-santo-domingo-de-cab-y-est-santo-domingo-s-c-a/
LOCATION:Balcarce\, Buenos Aires
CATEGORIES:Remates
ATTACH;FMTTYPE=image/png:https://www.hereford.org.ar/web/wp-content/uploads/2025/03/Santo-Domingo-2025.png
END:VEVENT
BEGIN:VEVENT
DTSTART;VALUE=DATE:20250828
DTEND;VALUE=DATE:20250829
DTSTAMP:20260422T100504
CREATED:20250811T161305Z
LAST-MODIFIED:20250811T171305Z
UID:4652-1756339200-1756425599@www.hereford.org.ar
SUMMARY:Rte. Especial de Reproductores De Sociedad Rural de Chacabuco
DESCRIPTION:CABAÑAS HEREFORD Y P. HEREFORD\nLas Tres Hermanas de Daniel Reynoso \nEl Molino de Emilio Aprile \nLa Reina de Nancy Rubio
URL:https://www.hereford.org.ar/web/remates-calendario/rte-especial-de-reproductores-de-sociedad-rural-de-chacabuco/
LOCATION:Sociedad Rural de Chacabuco\, Chacabuco\, Buenos Aires\, Argentina
CATEGORIES:Remates
ATTACH;FMTTYPE=image/jpeg:https://www.hereford.org.ar/web/wp-content/uploads/2025/08/WhatsApp-Image-2025-08-11-at-11.59.58.jpeg
END:VEVENT
BEGIN:VEVENT
DTSTART;TZID=America/Argentina/Buenos_Aires:20250828T140000
DTEND;TZID=America/Argentina/Buenos_Aires:20250828T170000
DTSTAMP:20260422T100504
CREATED:20250609T135441Z
LAST-MODIFIED:20250822T131824Z
UID:3869-1756389600-1756400400@www.hereford.org.ar
SUMMARY:19° Rte. en 9  de Julio de La Cassina S.A.
DESCRIPTION:Sociedad Rural de 9 de Julio\, 9 de Julio\, Buenos Aires. \n14h previo almuerzo \n🔶Mira los lotes en: VIDEO DE LOTES\n🔶Catalogo en: LINK
URL:https://www.hereford.org.ar/web/remates-calendario/19-rte-en-9-de-julio-de-la-cassina-s-a/
LOCATION:9 de Julio\, 9 de Julio\, Buenos Aires\, Argentina
CATEGORIES:Remates
ATTACH;FMTTYPE=image/jpeg:https://www.hereford.org.ar/web/wp-content/uploads/2025/06/WhatsApp-Image-2025-08-22-at-09.25.56.jpeg
END:VEVENT
END:VCALENDAR