BEGIN:VCALENDAR
VERSION:2.0
PRODID:-//Hereford Argentina - ECPv6.15.20//NONSGML v1.0//EN
CALSCALE:GREGORIAN
METHOD:PUBLISH
X-WR-CALNAME:Hereford Argentina
X-ORIGINAL-URL:https://www.hereford.org.ar/web
X-WR-CALDESC:Eventos para Hereford Argentina
REFRESH-INTERVAL;VALUE=DURATION:PT1H
X-Robots-Tag:noindex
X-PUBLISHED-TTL:PT1H
BEGIN:VTIMEZONE
TZID:America/Argentina/Buenos_Aires
BEGIN:STANDARD
TZOFFSETFROM:-0300
TZOFFSETTO:-0300
TZNAME:-03
DTSTART:20240101T000000
END:STANDARD
END:VTIMEZONE
BEGIN:VEVENT
DTSTART;VALUE=DATE:20250522
DTEND;VALUE=DATE:20250523
DTSTAMP:20260422T142254
CREATED:20250409T191152Z
LAST-MODIFIED:20250522T173840Z
UID:2688-1747872000-1747958399@www.hereford.org.ar
SUMMARY:2° Rte. Especial de Terneros y Terneras de Ganadera del Sur S.R.L.
DESCRIPTION:2° REMATE ESPECIAL DE TERNEROS Y TERNERAS (Y VAQUILLONAS) DE GANADERA DEL SUR S.R.L\nLINK: https://www.youtube.com/watch?v=myIhjLgcnLs
URL:https://www.hereford.org.ar/web/remates-calendario/2-rte-especial-de-terneros-y-terneras-de-ganadera-del-sur-s-r-l/
LOCATION:San Luis\, San Luis
CATEGORIES:Remates
ATTACH;FMTTYPE=image/jpeg:https://www.hereford.org.ar/web/wp-content/uploads/2025/04/WhatsApp-Image-2025-04-30-at-13.10.37-1.jpeg
END:VEVENT
BEGIN:VEVENT
DTSTART;VALUE=DATE:20250528
DTEND;VALUE=DATE:20250529
DTSTAMP:20260422T142254
CREATED:20250514T123621Z
LAST-MODIFIED:20250522T124911Z
UID:3336-1748390400-1748476799@www.hereford.org.ar
SUMMARY:4° RTE. Hereford y sus Cruzas en el MAG
DESCRIPTION:
URL:https://www.hereford.org.ar/web/remates-calendario/rte-hereford-y-sus-cruzas-en-el-mag-2/
LOCATION:Mercado Agroganadero\, RP6 Km 88\, Cañuelas\, Provincia de Buenos Aires\, Argentina
CATEGORIES:Remates
ATTACH;FMTTYPE=image/jpeg:https://www.hereford.org.ar/web/wp-content/uploads/2025/05/mag1.jpg
END:VEVENT
BEGIN:VEVENT
DTSTART;TZID=America/Argentina/Buenos_Aires:20250530T143000
DTEND;TZID=America/Argentina/Buenos_Aires:20250530T183000
DTSTAMP:20260422T142254
CREATED:20250519T195030Z
LAST-MODIFIED:20250530T164936Z
UID:3443-1748615400-1748629800@www.hereford.org.ar
SUMMARY:227° RemaTV Bloque Especial Hereford y sus Derivados Invernada y Cria  de Sáenz Valiente\, Bullrich y CIA (Físico y Televisado)
DESCRIPTION:CATALOGO REMATV 227°\nRte. Físico y Televisado
URL:https://www.hereford.org.ar/web/remates-calendario/227-rematv-bloque-especial-hereford-y-sus-derivados-invernada-y-cria-de-saenz-valiente-bullrich-y-cia-fisico-y-televisado/
LOCATION:General Villegas\, Buenos Aires\, General Villegas\, Buenos Aires\, Buenos Aires\, Argentina
CATEGORIES:Remates
ATTACH;FMTTYPE=image/jpeg:https://www.hereford.org.ar/web/wp-content/uploads/2025/05/WhatsApp-Image-2025-05-30-at-13.14.05.jpeg
END:VEVENT
END:VCALENDAR