BEGIN:VCALENDAR
VERSION:2.0
PRODID:-//Hereford Argentina - ECPv6.15.20//NONSGML v1.0//EN
CALSCALE:GREGORIAN
METHOD:PUBLISH
X-WR-CALNAME:Hereford Argentina
X-ORIGINAL-URL:https://www.hereford.org.ar/web
X-WR-CALDESC:Eventos para Hereford Argentina
REFRESH-INTERVAL;VALUE=DURATION:PT1H
X-Robots-Tag:noindex
X-PUBLISHED-TTL:PT1H
BEGIN:VTIMEZONE
TZID:America/Argentina/Buenos_Aires
BEGIN:STANDARD
TZOFFSETFROM:-0300
TZOFFSETTO:-0300
TZNAME:-03
DTSTART:20240101T000000
END:STANDARD
END:VTIMEZONE
BEGIN:VEVENT
DTSTART;VALUE=DATE:20250227
DTEND;VALUE=DATE:20250228
DTSTAMP:20260422T192221
CREATED:20250320T194525Z
LAST-MODIFIED:20250320T194525Z
UID:2551-1740614400-1740700799@www.hereford.org.ar
SUMMARY:49° Rte. Leleque de Cia de Tierras del Sud Argentino S.A.U.
DESCRIPTION:
URL:https://www.hereford.org.ar/web/remates-calendario/49-rte-leleque-de-cia-de-tierras-del-sud-argentino-s-a-u/
LOCATION:Leleque\, Chubut
CATEGORIES:Remates
END:VEVENT
END:VCALENDAR